BEGIN:VCALENDAR
VERSION:2.0
PRODID:-//Ngā Puna O Waiōrea - ECPv6.14.0//NONSGML v1.0//EN
CALSCALE:GREGORIAN
METHOD:PUBLISH
X-WR-CALNAME:Ngā Puna O Waiōrea
X-ORIGINAL-URL:https://waiorea.school.nz
X-WR-CALDESC:Events for Ngā Puna O Waiōrea
REFRESH-INTERVAL;VALUE=DURATION:PT1H
X-Robots-Tag:noindex
X-PUBLISHED-TTL:PT1H
BEGIN:VTIMEZONE
TZID:Pacific/Auckland
BEGIN:STANDARD
TZOFFSETFROM:+1300
TZOFFSETTO:+1200
TZNAME:NZST
DTSTART:20180331T140000
END:STANDARD
BEGIN:DAYLIGHT
TZOFFSETFROM:+1200
TZOFFSETTO:+1300
TZNAME:NZDT
DTSTART:20180929T140000
END:DAYLIGHT
END:VTIMEZONE
BEGIN:VEVENT
DTSTART;VALUE=DATE:20180204
DTEND;VALUE=DATE:20180207
DTSTAMP:20260425T221908
CREATED:20180117T211519Z
LAST-MODIFIED:20180204T182600Z
UID:637-1517702400-1517961599@waiorea.school.nz
SUMMARY:All Rōpū Kapa Haka Practice
DESCRIPTION:Friday 4pm-10pm\nSaturday 1pm-10pm\nSunday 1pm-5pm\nKai: Rōpū A
URL:https://waiorea.school.nz/calendar/waiorea-kapa-haka-practice/
END:VEVENT
BEGIN:VEVENT
DTSTART;VALUE=DATE:20180205
DTEND;VALUE=DATE:20180206
DTSTAMP:20260425T221908
CREATED:20171218T211853Z
LAST-MODIFIED:20180205T182251Z
UID:374-1517788800-1517875199@waiorea.school.nz
SUMMARY:School Closed
DESCRIPTION:This event has a Google Hangouts video call.\nJoin: https://plus.google.com/hangouts/_/wsc.school.nz/school-closed?hceid=d3NjLnNjaG9vbC5uel9idmNsZ3JscWRjaGVucWFtaDVlb2dpZGJ1a0Bncm91cC5jYWxlbmRhci5nb29nbGUuY29t.7p4fs7hanr9bgu9tp4hegdejlv&hs=121
URL:https://waiorea.school.nz/calendar/school-closed/
END:VEVENT
END:VCALENDAR