BEGIN:VCALENDAR
VERSION:2.0
PRODID:-//Ngā Puna O Waiōrea - ECPv6.14.0//NONSGML v1.0//EN
CALSCALE:GREGORIAN
METHOD:PUBLISH
X-WR-CALNAME:Ngā Puna O Waiōrea
X-ORIGINAL-URL:https://waiorea.school.nz
X-WR-CALDESC:Events for Ngā Puna O Waiōrea
REFRESH-INTERVAL;VALUE=DURATION:PT1H
X-Robots-Tag:noindex
X-PUBLISHED-TTL:PT1H
BEGIN:VTIMEZONE
TZID:Pacific/Auckland
BEGIN:STANDARD
TZOFFSETFROM:+1300
TZOFFSETTO:+1200
TZNAME:NZST
DTSTART:20180331T140000
END:STANDARD
BEGIN:DAYLIGHT
TZOFFSETFROM:+1200
TZOFFSETTO:+1300
TZNAME:NZDT
DTSTART:20180929T140000
END:DAYLIGHT
END:VTIMEZONE
BEGIN:VEVENT
DTSTART;TZID=Pacific/Auckland:20180221T153000
DTEND;TZID=Pacific/Auckland:20180221T170000
DTSTAMP:20260425T022954
CREATED:20171218T211900Z
LAST-MODIFIED:20180211T190038Z
UID:381-1519227000-1519232400@waiorea.school.nz
SUMMARY:Homework Centre
DESCRIPTION:This event has a Google Hangouts video call.\nJoin: https://plus.google.com/hangouts/_/wsc.school.nz/homework-centre?hceid=d3NjLnNjaG9vbC5uel9idmNsZ3JscWRjaGVucWFtaDVlb2dpZGJ1a0Bncm91cC5jYWxlbmRhci5nb29nbGUuY29t.71var8m5q7ngqhr7u2kadfb4b7&hs=121
URL:https://waiorea.school.nz/calendar/homework-centre/
END:VEVENT
BEGIN:VEVENT
DTSTART;TZID=Pacific/Auckland:20180221T153000
DTEND;TZID=Pacific/Auckland:20180221T170000
DTSTAMP:20260425T022954
CREATED:20180212T190105Z
LAST-MODIFIED:20180221T192555Z
UID:1581-1519227000-1519232400@waiorea.school.nz
SUMMARY:Homework Centre
DESCRIPTION:This event has a Google Hangouts video call.\nJoin: https://plus.google.com/hangouts/_/wsc.school.nz/homework-centre?hceid=d3NjLnNjaG9vbC5uel9idmNsZ3JscWRjaGVucWFtaDVlb2dpZGJ1a0Bncm91cC5jYWxlbmRhci5nb29nbGUuY29t.760e1v3n1k1u1te3loafmgad53&hs=121
URL:https://waiorea.school.nz/calendar/homework-centre-101/
END:VEVENT
BEGIN:VEVENT
DTSTART;TZID=Pacific/Auckland:20180221T160000
DTEND;TZID=Pacific/Auckland:20180221T173000
DTSTAMP:20260425T022954
CREATED:20180123T015307Z
LAST-MODIFIED:20180212T190105Z
UID:974-1519228800-1519234200@waiorea.school.nz
SUMMARY:Waka Ama Training
DESCRIPTION:
URL:https://waiorea.school.nz/calendar/waka-ama-training-8/
END:VEVENT
END:VCALENDAR