BEGIN:VCALENDAR
VERSION:2.0
PRODID:-//Ngā Puna O Waiōrea - ECPv6.14.0//NONSGML v1.0//EN
CALSCALE:GREGORIAN
METHOD:PUBLISH
X-WR-CALNAME:Ngā Puna O Waiōrea
X-ORIGINAL-URL:https://waiorea.school.nz
X-WR-CALDESC:Events for Ngā Puna O Waiōrea
REFRESH-INTERVAL;VALUE=DURATION:PT1H
X-Robots-Tag:noindex
X-PUBLISHED-TTL:PT1H
BEGIN:VTIMEZONE
TZID:Pacific/Auckland
BEGIN:STANDARD
TZOFFSETFROM:+1300
TZOFFSETTO:+1200
TZNAME:NZST
DTSTART:20180331T140000
END:STANDARD
BEGIN:DAYLIGHT
TZOFFSETFROM:+1200
TZOFFSETTO:+1300
TZNAME:NZDT
DTSTART:20180929T140000
END:DAYLIGHT
END:VTIMEZONE
BEGIN:VEVENT
DTSTART;VALUE=DATE:20180622
DTEND;VALUE=DATE:20180624
DTSTAMP:20260424T042905
CREATED:20180118T223024Z
LAST-MODIFIED:20180622T190043Z
UID:727-1529625600-1529798399@waiorea.school.nz
SUMMARY:Y11-Y13 Study Wānanga (TBC)
DESCRIPTION:Whānau driven study wānanga (TBC)
URL:https://waiorea.school.nz/calendar/y11-y13-study-wananga-tbc-2/
END:VEVENT
BEGIN:VEVENT
DTSTART;VALUE=DATE:20180622
DTEND;VALUE=DATE:20180625
DTSTAMP:20260424T042905
CREATED:20180118T223024Z
LAST-MODIFIED:20180118T223024Z
UID:728-1529625600-1529884799@waiorea.school.nz
SUMMARY:Nationals Kapa Haka Practice
DESCRIPTION:Friday – 4pm-10pm\nSaturday 1pm-10pm\nSunday 1pm-5pm
URL:https://waiorea.school.nz/calendar/nationals-kapa-haka-practice-21/
END:VEVENT
END:VCALENDAR