BEGIN:VCALENDAR
VERSION:2.0
PRODID:-//Ngā Puna O Waiōrea - ECPv6.14.0//NONSGML v1.0//EN
CALSCALE:GREGORIAN
METHOD:PUBLISH
X-ORIGINAL-URL:https://waiorea.school.nz
X-WR-CALDESC:Events for Ngā Puna O Waiōrea
REFRESH-INTERVAL;VALUE=DURATION:PT1H
X-Robots-Tag:noindex
X-PUBLISHED-TTL:PT1H
BEGIN:VTIMEZONE
TZID:Pacific/Auckland
BEGIN:STANDARD
TZOFFSETFROM:+1300
TZOFFSETTO:+1200
TZNAME:NZST
DTSTART:20210403T140000
END:STANDARD
BEGIN:DAYLIGHT
TZOFFSETFROM:+1200
TZOFFSETTO:+1300
TZNAME:NZDT
DTSTART:20210925T140000
END:DAYLIGHT
END:VTIMEZONE
BEGIN:VEVENT
DTSTART;TZID=Pacific/Auckland:20210310T153000
DTEND;TZID=Pacific/Auckland:20210310T170000
DTSTAMP:20260424T200530
CREATED:20210201T194151Z
LAST-MODIFIED:20210309T052043Z
UID:11299-1615390200-1615395600@waiorea.school.nz
SUMMARY:Waiōrea Homework Centre
DESCRIPTION:
URL:https://waiorea.school.nz/calendar/waiorea-homework-centre-4/
END:VEVENT
BEGIN:VEVENT
DTSTART;TZID=Pacific/Auckland:20210310T170000
DTEND;TZID=Pacific/Auckland:20210310T210000
DTSTAMP:20260424T200530
CREATED:20210212T211044Z
LAST-MODIFIED:20210310T053512Z
UID:11616-1615395600-1615410000@waiorea.school.nz
SUMMARY:ASB Kapa Haka Practice
DESCRIPTION:
URL:https://waiorea.school.nz/calendar/asb-kapa-haka-practice-8/
END:VEVENT
END:VCALENDAR