BEGIN:VCALENDAR
VERSION:2.0
PRODID:-//Ngā Puna O Waiōrea - ECPv6.14.0//NONSGML v1.0//EN
CALSCALE:GREGORIAN
METHOD:PUBLISH
X-ORIGINAL-URL:https://waiorea.school.nz
X-WR-CALDESC:Events for Ngā Puna O Waiōrea
REFRESH-INTERVAL;VALUE=DURATION:PT1H
X-Robots-Tag:noindex
X-PUBLISHED-TTL:PT1H
BEGIN:VTIMEZONE
TZID:Pacific/Auckland
BEGIN:STANDARD
TZOFFSETFROM:+1300
TZOFFSETTO:+1200
TZNAME:NZST
DTSTART:20250405T140000
END:STANDARD
BEGIN:DAYLIGHT
TZOFFSETFROM:+1200
TZOFFSETTO:+1300
TZNAME:NZDT
DTSTART:20250927T140000
END:DAYLIGHT
END:VTIMEZONE
BEGIN:VEVENT
DTSTART;VALUE=DATE:20251022
DTEND;VALUE=DATE:20251023
DTSTAMP:20260422T133124
CREATED:20250318T231439Z
LAST-MODIFIED:20251022T101228Z
UID:21565-1761091200-1761177599@waiorea.school.nz
SUMMARY:Pasifika prize giving in Te Rehu (Whare Taapere) 6pm
DESCRIPTION:
URL:https://waiorea.school.nz/calendar/pasifika-prize-giving-in-the-gym-6pm/
END:VEVENT
BEGIN:VEVENT
DTSTART;TZID=Pacific/Auckland:20251022T153000
DTEND;TZID=Pacific/Auckland:20251022T170000
DTSTAMP:20260422T133124
CREATED:20250318T231357Z
LAST-MODIFIED:20251021T071242Z
UID:21466-1761147000-1761152400@waiorea.school.nz
SUMMARY:Waiōrea Homework Centre
DESCRIPTION:
URL:https://waiorea.school.nz/calendar/waiorea-homework-centre-204/
END:VEVENT
END:VCALENDAR