BEGIN:VCALENDAR
VERSION:2.0
PRODID:-//Ngā Puna O Waiōrea - ECPv6.14.0//NONSGML v1.0//EN
CALSCALE:GREGORIAN
METHOD:PUBLISH
X-ORIGINAL-URL:https://waiorea.school.nz
X-WR-CALDESC:Events for Ngā Puna O Waiōrea
REFRESH-INTERVAL;VALUE=DURATION:PT1H
X-Robots-Tag:noindex
X-PUBLISHED-TTL:PT1H
BEGIN:VTIMEZONE
TZID:Pacific/Auckland
BEGIN:STANDARD
TZOFFSETFROM:+1300
TZOFFSETTO:+1200
TZNAME:NZST
DTSTART:20220402T140000
END:STANDARD
BEGIN:DAYLIGHT
TZOFFSETFROM:+1200
TZOFFSETTO:+1300
TZNAME:NZDT
DTSTART:20220924T140000
END:DAYLIGHT
END:VTIMEZONE
BEGIN:VEVENT
DTSTART;TZID=Pacific/Auckland:20220803T153000
DTEND;TZID=Pacific/Auckland:20220803T170000
DTSTAMP:20260422T161934
CREATED:20210201T194305Z
LAST-MODIFIED:20220530T081616Z
UID:11392-1659540600-1659546000@waiorea.school.nz
SUMMARY:Waiōrea Homework Centre
DESCRIPTION:
URL:https://waiorea.school.nz/calendar/waiorea-homework-centre-77/
CATEGORIES:Waiorea
END:VEVENT
BEGIN:VEVENT
DTSTART;TZID=Pacific/Auckland:20220810T153000
DTEND;TZID=Pacific/Auckland:20220810T170000
DTSTAMP:20260422T161934
CREATED:20210201T194346Z
LAST-MODIFIED:20220530T081616Z
UID:11398-1660145400-1660150800@waiorea.school.nz
SUMMARY:Waiōrea Homework Centre
DESCRIPTION:
URL:https://waiorea.school.nz/calendar/waiorea-homework-centre-78/
CATEGORIES:Waiorea
END:VEVENT
BEGIN:VEVENT
DTSTART;TZID=Pacific/Auckland:20220817T153000
DTEND;TZID=Pacific/Auckland:20220817T170000
DTSTAMP:20260422T161934
CREATED:20210201T194346Z
LAST-MODIFIED:20220530T081616Z
UID:11399-1660750200-1660755600@waiorea.school.nz
SUMMARY:Waiōrea Homework Centre
DESCRIPTION:
URL:https://waiorea.school.nz/calendar/waiorea-homework-centre-79/
CATEGORIES:Waiorea
END:VEVENT
BEGIN:VEVENT
DTSTART;TZID=Pacific/Auckland:20220824T153000
DTEND;TZID=Pacific/Auckland:20220824T170000
DTSTAMP:20260422T161934
CREATED:20210201T194347Z
LAST-MODIFIED:20220530T081616Z
UID:11400-1661355000-1661360400@waiorea.school.nz
SUMMARY:Waiōrea Homework Centre
DESCRIPTION:
URL:https://waiorea.school.nz/calendar/waiorea-homework-centre-80/
CATEGORIES:Waiorea
END:VEVENT
BEGIN:VEVENT
DTSTART;TZID=Pacific/Auckland:20220831T153000
DTEND;TZID=Pacific/Auckland:20220831T170000
DTSTAMP:20260422T161934
CREATED:20210201T194347Z
LAST-MODIFIED:20220530T081616Z
UID:11401-1661959800-1661965200@waiorea.school.nz
SUMMARY:Waiōrea Homework Centre
DESCRIPTION:
URL:https://waiorea.school.nz/calendar/waiorea-homework-centre-81/
CATEGORIES:Waiorea
END:VEVENT
END:VCALENDAR