BEGIN:VCALENDAR
VERSION:2.0
PRODID:-//Ngā Puna O Waiōrea - ECPv6.14.0//NONSGML v1.0//EN
CALSCALE:GREGORIAN
METHOD:PUBLISH
X-ORIGINAL-URL:https://waiorea.school.nz
X-WR-CALDESC:Events for Ngā Puna O Waiōrea
REFRESH-INTERVAL;VALUE=DURATION:PT1H
X-Robots-Tag:noindex
X-PUBLISHED-TTL:PT1H
BEGIN:VTIMEZONE
TZID:Pacific/Auckland
BEGIN:STANDARD
TZOFFSETFROM:+1300
TZOFFSETTO:+1200
TZNAME:NZST
DTSTART:20220402T140000
END:STANDARD
BEGIN:DAYLIGHT
TZOFFSETFROM:+1200
TZOFFSETTO:+1300
TZNAME:NZDT
DTSTART:20220924T140000
END:DAYLIGHT
END:VTIMEZONE
BEGIN:VEVENT
DTSTART;VALUE=DATE:20220201
DTEND;VALUE=DATE:20220202
DTSTAMP:20260426T084744
CREATED:20211115T221900Z
LAST-MODIFIED:20220201T222913Z
UID:12868-1643673600-1643759999@waiorea.school.nz
SUMMARY:Term 1 begins - ToD
DESCRIPTION:
URL:https://waiorea.school.nz/calendar/term-1-begins-tod/
CATEGORIES:WSC
END:VEVENT
BEGIN:VEVENT
DTSTART;VALUE=DATE:20220202
DTEND;VALUE=DATE:20220203
DTSTAMP:20260426T084744
CREATED:20211115T221859Z
LAST-MODIFIED:20220202T223034Z
UID:12867-1643760000-1643846399@waiorea.school.nz
SUMMARY:All Waiorea  for powhiri. Springs Year 13s ONLY in today (12noon  to 2.30pm)
DESCRIPTION:
URL:https://waiorea.school.nz/calendar/waiorea-powhiri-at-10-30am-and-all-year-13-students-in-at-12noon/
CATEGORIES:WSC
END:VEVENT
BEGIN:VEVENT
DTSTART;TZID=Pacific/Auckland:20220202T153000
DTEND;TZID=Pacific/Auckland:20220202T170000
DTSTAMP:20260426T084744
CREATED:20210201T194256Z
LAST-MODIFIED:20220201T171423Z
UID:11366-1643815800-1643821200@waiorea.school.nz
SUMMARY:Waiōrea Homework Centre
DESCRIPTION:
URL:https://waiorea.school.nz/calendar/waiorea-homework-centre-51/
CATEGORIES:Waiorea
END:VEVENT
BEGIN:VEVENT
DTSTART;VALUE=DATE:20220203
DTEND;VALUE=DATE:20220204
DTSTAMP:20260426T084744
CREATED:20211115T221900Z
LAST-MODIFIED:20220203T223154Z
UID:12870-1643846400-1643932799@waiorea.school.nz
SUMMARY:Waiōrea Y13 ( and core group) in for Springs Powhiri.  All new Waiōrea akonga (9am to 1.30pm). Springs  Y13 students (9.00am to 2 pm)\,  Y9 Atea and Kapura students (10am to 2pm)\, Y9 Moana and Whenua students (10.30am to 2pm)\,Y10 to 13 new students (10am to 12.30pm). All new students must bring their own device.
DESCRIPTION:
URL:https://waiorea.school.nz/calendar/all-new-springs-students-powhiri-and-year-13s-from-10am-onward/
CATEGORIES:WSC
END:VEVENT
BEGIN:VEVENT
DTSTART;VALUE=DATE:20220204
DTEND;VALUE=DATE:20220205
DTSTAMP:20260426T084744
CREATED:20211115T221900Z
LAST-MODIFIED:20220204T224614Z
UID:12871-1643932800-1644019199@waiorea.school.nz
SUMMARY:Waiorea Y13 and 9 (10 to 1.30pm). Springs Y13s and Y9 students (10am to 2.45pm)
DESCRIPTION:
URL:https://waiorea.school.nz/calendar/all-year-9-and-13-students-from-10am/
CATEGORIES:WSC
END:VEVENT
BEGIN:VEVENT
DTSTART;VALUE=DATE:20220207
DTEND;VALUE=DATE:20220208
DTSTAMP:20260426T084744
CREATED:20211115T221900Z
LAST-MODIFIED:20220207T224338Z
UID:12873-1644192000-1644278399@waiorea.school.nz
SUMMARY:Waitangi Day
DESCRIPTION:
URL:https://waiorea.school.nz/calendar/waitangi-day-4/
CATEGORIES:WSC
END:VEVENT
BEGIN:VEVENT
DTSTART;VALUE=DATE:20220208
DTEND;VALUE=DATE:20220209
DTSTAMP:20260426T084744
CREATED:20211115T221900Z
LAST-MODIFIED:20220208T224343Z
UID:12872-1644278400-1644364799@waiorea.school.nz
SUMMARY:Normal timetable for all students (Y9 to 13)
DESCRIPTION:
URL:https://waiorea.school.nz/calendar/normal-timetable-for-all-students-y9-to-13/
CATEGORIES:WSC
END:VEVENT
BEGIN:VEVENT
DTSTART;VALUE=DATE:20220209
DTEND;VALUE=DATE:20220210
DTSTAMP:20260426T084744
CREATED:20211115T221900Z
LAST-MODIFIED:20220209T224345Z
UID:12874-1644364800-1644451199@waiorea.school.nz
SUMMARY:ID photos
DESCRIPTION:SCHEDULE
URL:https://waiorea.school.nz/calendar/id-photos-3/
CATEGORIES:WSC
END:VEVENT
BEGIN:VEVENT
DTSTART;TZID=Pacific/Auckland:20220209T153000
DTEND;TZID=Pacific/Auckland:20220209T170000
DTSTAMP:20260426T084744
CREATED:20210201T194257Z
LAST-MODIFIED:20220208T174355Z
UID:11367-1644420600-1644426000@waiorea.school.nz
SUMMARY:Waiōrea Homework Centre
DESCRIPTION:
URL:https://waiorea.school.nz/calendar/waiorea-homework-centre-52/
CATEGORIES:Waiorea
END:VEVENT
BEGIN:VEVENT
DTSTART;VALUE=DATE:20220216
DTEND;VALUE=DATE:20220217
DTSTAMP:20260426T084744
CREATED:20211115T221900Z
LAST-MODIFIED:20220215T224444Z
UID:12875-1644969600-1645055999@waiorea.school.nz
SUMMARY:ID photos catchup 9 to 1pm
DESCRIPTION:
URL:https://waiorea.school.nz/calendar/id-photos-catchup-9-to-1pm/
CATEGORIES:WSC
END:VEVENT
BEGIN:VEVENT
DTSTART;TZID=Pacific/Auckland:20220216T153000
DTEND;TZID=Pacific/Auckland:20220216T170000
DTSTAMP:20260426T084744
CREATED:20210201T194257Z
LAST-MODIFIED:20220215T183040Z
UID:11368-1645025400-1645030800@waiorea.school.nz
SUMMARY:Waiōrea Homework Centre
DESCRIPTION:
URL:https://waiorea.school.nz/calendar/waiorea-homework-centre-53/
CATEGORIES:Waiorea
END:VEVENT
BEGIN:VEVENT
DTSTART;VALUE=DATE:20220218
DTEND;VALUE=DATE:20220219
DTSTAMP:20260426T084744
CREATED:20211213T191358Z
LAST-MODIFIED:20220215T224445Z
UID:13168-1645142400-1645228799@waiorea.school.nz
SUMMARY:WSCW ATHLETICS DAY - competitors only normal school timetable for everyone else.
DESCRIPTION:
URL:https://waiorea.school.nz/calendar/wscw-athletics-day/
CATEGORIES:WSC
END:VEVENT
BEGIN:VEVENT
DTSTART;VALUE=DATE:20220223
DTEND;VALUE=DATE:20220224
DTSTAMP:20260426T084744
CREATED:20211213T191358Z
LAST-MODIFIED:20220124T221415Z
UID:13169-1645574400-1645660799@waiorea.school.nz
SUMMARY:New Parents BBQ 5.30pm
DESCRIPTION:
URL:https://waiorea.school.nz/calendar/new-parents-bbq-5-30pm/
CATEGORIES:WSC
END:VEVENT
BEGIN:VEVENT
DTSTART;TZID=Pacific/Auckland:20220223T153000
DTEND;TZID=Pacific/Auckland:20220223T170000
DTSTAMP:20260426T084744
CREATED:20210201T194257Z
LAST-MODIFIED:20220215T183041Z
UID:11369-1645630200-1645635600@waiorea.school.nz
SUMMARY:Waiōrea Homework Centre
DESCRIPTION:
URL:https://waiorea.school.nz/calendar/waiorea-homework-centre-54/
CATEGORIES:Waiorea
END:VEVENT
BEGIN:VEVENT
DTSTART;VALUE=DATE:20220228
DTEND;VALUE=DATE:20220301
DTSTAMP:20260426T084744
CREATED:20211213T191358Z
LAST-MODIFIED:20220227T230414Z
UID:13170-1646006400-1646092799@waiorea.school.nz
SUMMARY:WSCW Swimming Sports@ Westwave (competitors only)
DESCRIPTION:
URL:https://waiorea.school.nz/calendar/wscw-swimming-sports-westwave-competitors-only/
CATEGORIES:WSC
END:VEVENT
END:VCALENDAR