BEGIN:VCALENDAR
VERSION:2.0
PRODID:-//Ngā Puna O Waiōrea - ECPv6.14.0//NONSGML v1.0//EN
CALSCALE:GREGORIAN
METHOD:PUBLISH
X-ORIGINAL-URL:https://waiorea.school.nz
X-WR-CALDESC:Events for Ngā Puna O Waiōrea
REFRESH-INTERVAL;VALUE=DURATION:PT1H
X-Robots-Tag:noindex
X-PUBLISHED-TTL:PT1H
BEGIN:VTIMEZONE
TZID:Pacific/Auckland
BEGIN:STANDARD
TZOFFSETFROM:+1300
TZOFFSETTO:+1200
TZNAME:NZST
DTSTART:20260404T140000
END:STANDARD
BEGIN:DAYLIGHT
TZOFFSETFROM:+1200
TZOFFSETTO:+1300
TZNAME:NZDT
DTSTART:20260926T140000
END:DAYLIGHT
END:VTIMEZONE
BEGIN:VEVENT
DTSTART;TZID=Pacific/Auckland:20260506T153000
DTEND;TZID=Pacific/Auckland:20260506T170000
DTSTAMP:20260421T144221
CREATED:20250318T231402Z
LAST-MODIFIED:20260319T233346Z
UID:21494-1778081400-1778086800@waiorea.school.nz
SUMMARY:Waiōrea Homework Centre
DESCRIPTION:
URL:https://waiorea.school.nz/calendar/waiorea-homework-centre-232/
END:VEVENT
BEGIN:VEVENT
DTSTART;TZID=Pacific/Auckland:20260513T153000
DTEND;TZID=Pacific/Auckland:20260513T170000
DTSTAMP:20260421T144221
CREATED:20250318T231403Z
LAST-MODIFIED:20260319T233346Z
UID:21495-1778686200-1778691600@waiorea.school.nz
SUMMARY:Waiōrea Homework Centre
DESCRIPTION:
URL:https://waiorea.school.nz/calendar/waiorea-homework-centre-233/
END:VEVENT
BEGIN:VEVENT
DTSTART;TZID=Pacific/Auckland:20260520T153000
DTEND;TZID=Pacific/Auckland:20260520T170000
DTSTAMP:20260421T144221
CREATED:20250318T231403Z
LAST-MODIFIED:20260319T233346Z
UID:21496-1779291000-1779296400@waiorea.school.nz
SUMMARY:Waiōrea Homework Centre
DESCRIPTION:
URL:https://waiorea.school.nz/calendar/waiorea-homework-centre-234/
END:VEVENT
BEGIN:VEVENT
DTSTART;VALUE=DATE:20260521
DTEND;VALUE=DATE:20260522
DTSTAMP:20260421T144221
CREATED:20251110T105730Z
LAST-MODIFIED:20260420T221238Z
UID:24484-1779321600-1779407999@waiorea.school.nz
SUMMARY:Junior Parent/Teacher/Student interviews
DESCRIPTION:
URL:https://waiorea.school.nz/calendar/junior-parent-teacher-student-interviews/
END:VEVENT
BEGIN:VEVENT
DTSTART;VALUE=DATE:20260525
DTEND;VALUE=DATE:20260526
DTSTAMP:20260421T144221
CREATED:20260218T201230Z
LAST-MODIFIED:20260420T221238Z
UID:25488-1779667200-1779753599@waiorea.school.nz
SUMMARY:Board hui 5pm in the staffroom
DESCRIPTION:
URL:https://waiorea.school.nz/calendar/board-hui-5pm-in-the-staffroom-3/
END:VEVENT
BEGIN:VEVENT
DTSTART;TZID=Pacific/Auckland:20260527T153000
DTEND;TZID=Pacific/Auckland:20260527T170000
DTSTAMP:20260421T144221
CREATED:20250318T231403Z
LAST-MODIFIED:20260319T233346Z
UID:21497-1779895800-1779901200@waiorea.school.nz
SUMMARY:Waiōrea Homework Centre
DESCRIPTION:
URL:https://waiorea.school.nz/calendar/waiorea-homework-centre-235/
END:VEVENT
END:VCALENDAR