BEGIN:VCALENDAR
VERSION:2.0
PRODID:-//Ngā Puna O Waiōrea - ECPv6.14.0//NONSGML v1.0//EN
CALSCALE:GREGORIAN
METHOD:PUBLISH
X-WR-CALNAME:Ngā Puna O Waiōrea
X-ORIGINAL-URL:https://waiorea.school.nz
X-WR-CALDESC:Events for Ngā Puna O Waiōrea
REFRESH-INTERVAL;VALUE=DURATION:PT1H
X-Robots-Tag:noindex
X-PUBLISHED-TTL:PT1H
BEGIN:VTIMEZONE
TZID:Pacific/Auckland
BEGIN:STANDARD
TZOFFSETFROM:+1300
TZOFFSETTO:+1200
TZNAME:NZST
DTSTART:20270403T140000
END:STANDARD
BEGIN:DAYLIGHT
TZOFFSETFROM:+1200
TZOFFSETTO:+1300
TZNAME:NZDT
DTSTART:20270925T140000
END:DAYLIGHT
END:VTIMEZONE
BEGIN:VEVENT
DTSTART;TZID=Pacific/Auckland:20271103T153000
DTEND;TZID=Pacific/Auckland:20271103T170000
DTSTAMP:20260421T203856
CREATED:20251103T072732Z
LAST-MODIFIED:20260319T233351Z
UID:24391-1825255800-1825261200@waiorea.school.nz
SUMMARY:Waiōrea Homework Centre
DESCRIPTION:
URL:https://waiorea.school.nz/calendar/waiorea-homework-centre-310/
END:VEVENT
BEGIN:VEVENT
DTSTART;TZID=Pacific/Auckland:20271110T153000
DTEND;TZID=Pacific/Auckland:20271110T170000
DTSTAMP:20260421T203856
CREATED:20251110T075734Z
LAST-MODIFIED:20260319T233351Z
UID:24460-1825860600-1825866000@waiorea.school.nz
SUMMARY:Waiōrea Homework Centre
DESCRIPTION:
URL:https://waiorea.school.nz/calendar/waiorea-homework-centre-311/
END:VEVENT
BEGIN:VEVENT
DTSTART;TZID=Pacific/Auckland:20271117T153000
DTEND;TZID=Pacific/Auckland:20271117T170000
DTSTAMP:20260421T203856
CREATED:20251117T075734Z
LAST-MODIFIED:20260319T233351Z
UID:24646-1826465400-1826470800@waiorea.school.nz
SUMMARY:Waiōrea Homework Centre
DESCRIPTION:
URL:https://waiorea.school.nz/calendar/waiorea-homework-centre-312/
END:VEVENT
BEGIN:VEVENT
DTSTART;TZID=Pacific/Auckland:20271124T153000
DTEND;TZID=Pacific/Auckland:20271124T170000
DTSTAMP:20260421T203856
CREATED:20251124T081233Z
LAST-MODIFIED:20260319T233351Z
UID:24699-1827070200-1827075600@waiorea.school.nz
SUMMARY:Waiōrea Homework Centre
DESCRIPTION:
URL:https://waiorea.school.nz/calendar/waiorea-homework-centre-313/
END:VEVENT
END:VCALENDAR