BEGIN:VCALENDAR
VERSION:2.0
PRODID:-//Ngā Puna O Waiōrea - ECPv6.14.0//NONSGML v1.0//EN
CALSCALE:GREGORIAN
METHOD:PUBLISH
X-ORIGINAL-URL:https://waiorea.school.nz
X-WR-CALDESC:Events for Ngā Puna O Waiōrea
REFRESH-INTERVAL;VALUE=DURATION:PT1H
X-Robots-Tag:noindex
X-PUBLISHED-TTL:PT1H
BEGIN:VTIMEZONE
TZID:Pacific/Auckland
BEGIN:STANDARD
TZOFFSETFROM:+1300
TZOFFSETTO:+1200
TZNAME:NZST
DTSTART:20180331T140000
END:STANDARD
BEGIN:DAYLIGHT
TZOFFSETFROM:+1200
TZOFFSETTO:+1300
TZNAME:NZDT
DTSTART:20180929T140000
END:DAYLIGHT
END:VTIMEZONE
BEGIN:VEVENT
DTSTART;VALUE=DATE:20180427
DTEND;VALUE=DATE:20180502
DTSTAMP:20260422T072827
CREATED:20180118T214052Z
LAST-MODIFIED:20180427T180217Z
UID:678-1524787200-1525219199@waiorea.school.nz
SUMMARY:Nationals Kapa Haka Practice
DESCRIPTION:Day Practices \nMonday – Friday :1pm – 10pm\nStudents to supply own dinner
URL:https://waiorea.school.nz/calendar/nationals-kapa-haka-practice/
END:VEVENT
BEGIN:VEVENT
DTSTART;VALUE=DATE:20180430
DTEND;VALUE=DATE:20180501
DTSTAMP:20260422T072827
CREATED:20171219T214000Z
LAST-MODIFIED:20180429T180509Z
UID:474-1525046400-1525132799@waiorea.school.nz
SUMMARY:Term 2 Starts
DESCRIPTION:This event has a Google Hangouts video call.\nJoin: https://plus.google.com/hangouts/_/wsc.school.nz/term-2-starts?hceid=d3NjLnNjaG9vbC5uel9idmNsZ3JscWRjaGVucWFtaDVlb2dpZGJ1a0Bncm91cC5jYWxlbmRhci5nb29nbGUuY29t.4ak9ntkldmg6751odq322m7p86&hs=121
URL:https://waiorea.school.nz/calendar/term-2-starts/
END:VEVENT
BEGIN:VEVENT
DTSTART;TZID=Pacific/Auckland:20180502T153000
DTEND;TZID=Pacific/Auckland:20180502T170000
DTSTAMP:20260422T072827
CREATED:20180118T214102Z
LAST-MODIFIED:20180502T181603Z
UID:680-1525275000-1525280400@waiorea.school.nz
SUMMARY:Homework Centre
DESCRIPTION:This event has a Google Hangouts video call.\nJoin: https://plus.google.com/hangouts/_/wsc.school.nz/homework-centre?hceid=d3NjLnNjaG9vbC5uel9idmNsZ3JscWRjaGVucWFtaDVlb2dpZGJ1a0Bncm91cC5jYWxlbmRhci5nb29nbGUuY29t.303ltbkv0u198cidipa27esu0h&hs=121
URL:https://waiorea.school.nz/calendar/homework-centre-9/
END:VEVENT
BEGIN:VEVENT
DTSTART;TZID=Pacific/Auckland:20180502T180000
DTEND;TZID=Pacific/Auckland:20180502T210000
DTSTAMP:20260422T072827
CREATED:20180124T182430Z
LAST-MODIFIED:20180502T181603Z
UID:1025-1525284000-1525294800@waiorea.school.nz
SUMMARY:Nationals Kapa Haka Practice
DESCRIPTION:
URL:https://waiorea.school.nz/calendar/nationals-kapa-haka-practice-27/
END:VEVENT
BEGIN:VEVENT
DTSTART;VALUE=DATE:20180503
DTEND;VALUE=DATE:20180504
DTSTAMP:20260422T072827
CREATED:20180501T180842Z
LAST-MODIFIED:20180503T182046Z
UID:2870-1525305600-1525391999@waiorea.school.nz
SUMMARY:Waiorea Test event
DESCRIPTION:This event has a Google Hangouts video call.\nJoin: https://hangouts.google.com/hangouts/_/wsc.school.nz/waiorea-test?hceid=d3NjLnNjaG9vbC5uel9idmNsZ3JscWRjaGVucWFtaDVlb2dpZGJ1a0Bncm91cC5jYWxlbmRhci5nb29nbGUuY29t.3li6iqid3orcstq581o9437un6&hs=121
URL:https://waiorea.school.nz/calendar/waiorea-test-event/
END:VEVENT
BEGIN:VEVENT
DTSTART;VALUE=DATE:20180506
DTEND;VALUE=DATE:20180509
DTSTAMP:20260422T072827
CREATED:20180124T182430Z
LAST-MODIFIED:20180506T185521Z
UID:1027-1525564800-1525823999@waiorea.school.nz
SUMMARY:Nationals Kapa Haka Practice
DESCRIPTION:
URL:https://waiorea.school.nz/calendar/nationals-kapa-haka-practice-28/
END:VEVENT
END:VCALENDAR