BEGIN:VCALENDAR
VERSION:2.0
PRODID:-//Ngā Puna O Waiōrea - ECPv6.14.0//NONSGML v1.0//EN
CALSCALE:GREGORIAN
METHOD:PUBLISH
X-WR-CALNAME:Ngā Puna O Waiōrea
X-ORIGINAL-URL:https://waiorea.school.nz
X-WR-CALDESC:Events for Ngā Puna O Waiōrea
REFRESH-INTERVAL;VALUE=DURATION:PT1H
X-Robots-Tag:noindex
X-PUBLISHED-TTL:PT1H
BEGIN:VTIMEZONE
TZID:Pacific/Auckland
BEGIN:STANDARD
TZOFFSETFROM:+1300
TZOFFSETTO:+1200
TZNAME:NZST
DTSTART:20180331T140000
END:STANDARD
BEGIN:DAYLIGHT
TZOFFSETFROM:+1200
TZOFFSETTO:+1300
TZNAME:NZDT
DTSTART:20180929T140000
END:DAYLIGHT
END:VTIMEZONE
BEGIN:VEVENT
DTSTART;VALUE=DATE:20180814
DTEND;VALUE=DATE:20180815
DTSTAMP:20260424T102130
CREATED:20180124T185841Z
LAST-MODIFIED:20180814T234232Z
UID:1125-1534204800-1534291199@waiorea.school.nz
SUMMARY:1/2 Day - Early Finish
DESCRIPTION:This event has a Google Hangouts video call.\nJoin: https://plus.google.com/hangouts/_/wsc.school.nz/1-2-day-early?hceid=d3NjLnNjaG9vbC5uel9idmNsZ3JscWRjaGVucWFtaDVlb2dpZGJ1a0Bncm91cC5jYWxlbmRhci5nb29nbGUuY29t.45a7v8e767lk37btaqo2b7f8lj&hs=121
URL:https://waiorea.school.nz/calendar/12-day-early-finish-4/
END:VEVENT
BEGIN:VEVENT
DTSTART;TZID=Pacific/Auckland:20180815T153000
DTEND;TZID=Pacific/Auckland:20180815T170000
DTSTAMP:20260424T102130
CREATED:20180118T230357Z
LAST-MODIFIED:20180815T234057Z
UID:752-1534347000-1534352400@waiorea.school.nz
SUMMARY:Homework Centre
DESCRIPTION:This event has a Google Hangouts video call.\nJoin: https://plus.google.com/hangouts/_/wsc.school.nz/homework-centre?hceid=d3NjLnNjaG9vbC5uel9idmNsZ3JscWRjaGVucWFtaDVlb2dpZGJ1a0Bncm91cC5jYWxlbmRhci5nb29nbGUuY29t.303ltbkv0u198cidipa27esu0h&hs=121
URL:https://waiorea.school.nz/calendar/homework-centre-24/
END:VEVENT
BEGIN:VEVENT
DTSTART;TZID=Pacific/Auckland:20180815T180000
DTEND;TZID=Pacific/Auckland:20180815T213000
DTSTAMP:20260424T102130
CREATED:20180731T220455Z
LAST-MODIFIED:20180815T234057Z
UID:3912-1534356000-1534368600@waiorea.school.nz
SUMMARY:Matariki Careers Evening
DESCRIPTION:This event has a Google Hangouts video call.\nJoin: https://hangouts.google.com/hangouts/_/wsc.school.nz/wsc-school-nz-b?hceid=d3NjLnNjaG9vbC5uel9idmNsZ3JscWRjaGVucWFtaDVlb2dpZGJ1a0Bncm91cC5jYWxlbmRhci5nb29nbGUuY29t.4df0k2jrtimfdmmflcd4qsq9r2&hs=121
URL:https://waiorea.school.nz/calendar/matariki-careers-evening/
END:VEVENT
BEGIN:VEVENT
DTSTART;VALUE=DATE:20180816
DTEND;VALUE=DATE:20180818
DTSTAMP:20260424T102130
CREATED:20180124T185842Z
LAST-MODIFIED:20180817T234431Z
UID:1127-1534377600-1534550399@waiorea.school.nz
SUMMARY:Y11-Y13 Study Wānanga (TBC)
DESCRIPTION:Whānau driven study wānanga – TBC
URL:https://waiorea.school.nz/calendar/y11-y13-study-wananga-tbc-3/
END:VEVENT
BEGIN:VEVENT
DTSTART;VALUE=DATE:20180816
DTEND;VALUE=DATE:20180817
DTSTAMP:20260424T102130
CREATED:20180124T185842Z
LAST-MODIFIED:20180719T203758Z
UID:1128-1534377600-1534463999@waiorea.school.nz
SUMMARY:Junior Parent Interviews
DESCRIPTION:This event has a Google Hangouts video call.\nJoin: https://plus.google.com/hangouts/_/wsc.school.nz/junior-parent?hceid=d3NjLnNjaG9vbC5uel9idmNsZ3JscWRjaGVucWFtaDVlb2dpZGJ1a0Bncm91cC5jYWxlbmRhci5nb29nbGUuY29t.5f2v76tm9b8jbgssqat44l2hfc&hs=121
URL:https://waiorea.school.nz/calendar/junior-parent-interviews-2/
END:VEVENT
BEGIN:VEVENT
DTSTART;VALUE=DATE:20180818
DTEND;VALUE=DATE:20180820
DTSTAMP:20260424T102130
CREATED:20180124T190042Z
LAST-MODIFIED:20180819T235828Z
UID:1130-1534550400-1534723199@waiorea.school.nz
SUMMARY:Koroneihana Weekend
DESCRIPTION:
URL:https://waiorea.school.nz/calendar/koroneihana-weekend/
END:VEVENT
END:VCALENDAR