BEGIN:VCALENDAR
VERSION:2.0
PRODID:-//Ngā Puna O Waiōrea - ECPv6.14.0//NONSGML v1.0//EN
CALSCALE:GREGORIAN
METHOD:PUBLISH
X-ORIGINAL-URL:https://waiorea.school.nz
X-WR-CALDESC:Events for Ngā Puna O Waiōrea
REFRESH-INTERVAL;VALUE=DURATION:PT1H
X-Robots-Tag:noindex
X-PUBLISHED-TTL:PT1H
BEGIN:VTIMEZONE
TZID:Pacific/Auckland
BEGIN:STANDARD
TZOFFSETFROM:+1300
TZOFFSETTO:+1200
TZNAME:NZST
DTSTART:20200404T140000
END:STANDARD
BEGIN:DAYLIGHT
TZOFFSETFROM:+1200
TZOFFSETTO:+1300
TZNAME:NZDT
DTSTART:20200926T140000
END:DAYLIGHT
END:VTIMEZONE
BEGIN:VEVENT
DTSTART;TZID=Pacific/Auckland:20200407T153000
DTEND;TZID=Pacific/Auckland:20200407T170000
DTSTAMP:20260424T061430
CREATED:20190115T074441Z
LAST-MODIFIED:20190204T204618Z
UID:7082-1586273400-1586278800@waiorea.school.nz
SUMMARY:Strength & Conditioning
DESCRIPTION:This is TBC and determined by Matua Steve and Matua Brad \nThis event has a Google Hangouts video call.\nJoin: https://hangouts.google.com/hangouts/_/wsc.school.nz/strength?hceid=d3NjLnNjaG9vbC5uel9idmNsZ3JscWRjaGVucWFtaDVlb2dpZGJ1a0Bncm91cC5jYWxlbmRhci5nb29nbGUuY29t.5vtpdcsa13mau9pfhgdm4mc9o8&hs=121
URL:https://waiorea.school.nz/calendar/strength-conditioning-111/
END:VEVENT
BEGIN:VEVENT
DTSTART;TZID=Pacific/Auckland:20200408T153000
DTEND;TZID=Pacific/Auckland:20200408T170000
DTSTAMP:20260424T061430
CREATED:20181220T210109Z
LAST-MODIFIED:20190204T204618Z
UID:6600-1586359800-1586365200@waiorea.school.nz
SUMMARY:Homework Centre
DESCRIPTION:This event has a Google Hangouts video call.\nJoin: https://hangouts.google.com/hangouts/_/wsc.school.nz/homework-centre?hceid=d3NjLnNjaG9vbC5uel9idmNsZ3JscWRjaGVucWFtaDVlb2dpZGJ1a0Bncm91cC5jYWxlbmRhci5nb29nbGUuY29t.25v803k0hjfg0d6ib6lh4trupo&hs=121
URL:https://waiorea.school.nz/calendar/homework-centre-169/
END:VEVENT
BEGIN:VEVENT
DTSTART;TZID=Pacific/Auckland:20200408T170000
DTEND;TZID=Pacific/Auckland:20200408T210000
DTSTAMP:20260424T061430
CREATED:20180823T194114Z
LAST-MODIFIED:20181215T204455Z
UID:4254-1586365200-1586379600@waiorea.school.nz
SUMMARY:Ahurea Kapa Haka
DESCRIPTION:This event has a Google Hangouts video call.\nJoin: https://hangouts.google.com/hangouts/_/wsc.school.nz/wsc-school-nz-b?hceid=d3NjLnNjaG9vbC5uel9idmNsZ3JscWRjaGVucWFtaDVlb2dpZGJ1a0Bncm91cC5jYWxlbmRhci5nb29nbGUuY29t.550grj4273f5silhvf1ag8f1u2&hs=121
URL:https://waiorea.school.nz/calendar/ahurea-kapa-haka-85/
END:VEVENT
BEGIN:VEVENT
DTSTART;TZID=Pacific/Auckland:20200409T153000
DTEND;TZID=Pacific/Auckland:20200409T170000
DTSTAMP:20260424T061430
CREATED:20190115T074442Z
LAST-MODIFIED:20190204T204619Z
UID:7083-1586446200-1586451600@waiorea.school.nz
SUMMARY:Strength & Conditioning
DESCRIPTION:This is TBC and determined by Matua Steve and Matua Brad \nThis event has a Google Hangouts video call.\nJoin: https://hangouts.google.com/hangouts/_/wsc.school.nz/strength?hceid=d3NjLnNjaG9vbC5uel9idmNsZ3JscWRjaGVucWFtaDVlb2dpZGJ1a0Bncm91cC5jYWxlbmRhci5nb29nbGUuY29t.1sd2e59ua8vh3voaqc4pdnu10t&hs=121
URL:https://waiorea.school.nz/calendar/strength-conditioning-112/
END:VEVENT
END:VCALENDAR