BEGIN:VCALENDAR
VERSION:2.0
PRODID:-//Ngā Puna O Waiōrea - ECPv6.14.0//NONSGML v1.0//EN
CALSCALE:GREGORIAN
METHOD:PUBLISH
X-ORIGINAL-URL:https://waiorea.school.nz
X-WR-CALDESC:Events for Ngā Puna O Waiōrea
REFRESH-INTERVAL;VALUE=DURATION:PT1H
X-Robots-Tag:noindex
X-PUBLISHED-TTL:PT1H
BEGIN:VTIMEZONE
TZID:Pacific/Auckland
BEGIN:STANDARD
TZOFFSETFROM:+1300
TZOFFSETTO:+1200
TZNAME:NZST
DTSTART:20210403T140000
END:STANDARD
BEGIN:DAYLIGHT
TZOFFSETFROM:+1200
TZOFFSETTO:+1300
TZNAME:NZDT
DTSTART:20210925T140000
END:DAYLIGHT
END:VTIMEZONE
BEGIN:VEVENT
DTSTART;TZID=Pacific/Auckland:20210519T151500
DTEND;TZID=Pacific/Auckland:20210519T184500
DTSTAMP:20260426T063349
CREATED:20210504T111718Z
LAST-MODIFIED:20210518T122157Z
UID:12140-1621437300-1621449900@waiorea.school.nz
SUMMARY:Haka Theatre Kaupapa
DESCRIPTION:
URL:https://waiorea.school.nz/calendar/haka-theatre-kaupapa-5/
END:VEVENT
BEGIN:VEVENT
DTSTART;TZID=Pacific/Auckland:20210519T153000
DTEND;TZID=Pacific/Auckland:20210519T170000
DTSTAMP:20260426T063349
CREATED:20210201T194159Z
LAST-MODIFIED:20210518T122157Z
UID:11327-1621438200-1621443600@waiorea.school.nz
SUMMARY:Waiōrea Homework Centre
DESCRIPTION:
URL:https://waiorea.school.nz/calendar/waiorea-homework-centre-14/
END:VEVENT
BEGIN:VEVENT
DTSTART;TZID=Pacific/Auckland:20210519T170000
DTEND;TZID=Pacific/Auckland:20210520T070000
DTSTAMP:20260426T063349
CREATED:20210504T111715Z
LAST-MODIFIED:20210519T123054Z
UID:12139-1621443600-1621494000@waiorea.school.nz
SUMMARY:Waihanga Noho-a-Whānau TBC
DESCRIPTION:Please check with Waihanga Form Teachers
URL:https://waiorea.school.nz/calendar/waihanga-noho-a-whanau-tbc/
END:VEVENT
BEGIN:VEVENT
DTSTART;VALUE=DATE:20210521
DTEND;VALUE=DATE:20210522
DTSTAMP:20260426T063349
CREATED:20210504T111718Z
LAST-MODIFIED:20210521T124729Z
UID:12141-1621555200-1621641599@waiorea.school.nz
SUMMARY:Puni Reo Poitarawhiti Tournament
DESCRIPTION:Details TBC
URL:https://waiorea.school.nz/calendar/puni-reo-poitarawhiti-tournament/
END:VEVENT
BEGIN:VEVENT
DTSTART;TZID=Pacific/Auckland:20210521T151500
DTEND;TZID=Pacific/Auckland:20210521T184500
DTSTAMP:20260426T063349
CREATED:20210504T111718Z
LAST-MODIFIED:20210520T123058Z
UID:12142-1621610100-1621622700@waiorea.school.nz
SUMMARY:Haka Theatre Kaupapa
DESCRIPTION:Selected Students – Details TBC
URL:https://waiorea.school.nz/calendar/haka-theatre-kaupapa-6/
END:VEVENT
END:VCALENDAR