BEGIN:VCALENDAR
VERSION:2.0
PRODID:-//Ngā Puna O Waiōrea - ECPv6.14.0//NONSGML v1.0//EN
CALSCALE:GREGORIAN
METHOD:PUBLISH
X-ORIGINAL-URL:https://waiorea.school.nz
X-WR-CALDESC:Events for Ngā Puna O Waiōrea
REFRESH-INTERVAL;VALUE=DURATION:PT1H
X-Robots-Tag:noindex
X-PUBLISHED-TTL:PT1H
BEGIN:VTIMEZONE
TZID:Pacific/Auckland
BEGIN:STANDARD
TZOFFSETFROM:+1300
TZOFFSETTO:+1200
TZNAME:NZST
DTSTART:20250405T140000
END:STANDARD
BEGIN:DAYLIGHT
TZOFFSETFROM:+1200
TZOFFSETTO:+1300
TZNAME:NZDT
DTSTART:20250927T140000
END:DAYLIGHT
END:VTIMEZONE
BEGIN:VEVENT
DTSTART;VALUE=DATE:20251027
DTEND;VALUE=DATE:20251028
DTSTAMP:20260421T181249
CREATED:20250318T231439Z
LAST-MODIFIED:20251027T101227Z
UID:21568-1761523200-1761609599@waiorea.school.nz
SUMMARY:Labour Day - school closed
DESCRIPTION:
URL:https://waiorea.school.nz/calendar/labour-day-school-closed/
END:VEVENT
BEGIN:VEVENT
DTSTART;VALUE=DATE:20251028
DTEND;VALUE=DATE:20251029
DTSTAMP:20260421T181249
CREATED:20250318T231440Z
LAST-MODIFIED:20251028T101230Z
UID:21570-1761609600-1761695999@waiorea.school.nz
SUMMARY:Y12 and 13 workshops and tutorials - schedule linked
DESCRIPTION:Schedule
URL:https://waiorea.school.nz/calendar/y12-and-13-workshops-and-tutorials/
END:VEVENT
BEGIN:VEVENT
DTSTART;VALUE=DATE:20251029
DTEND;VALUE=DATE:20251030
DTSTAMP:20260421T181249
CREATED:20250318T231440Z
LAST-MODIFIED:20251029T101230Z
UID:21571-1761696000-1761782399@waiorea.school.nz
SUMMARY:Y12 and 13 workshops and tutorials - schedule linked
DESCRIPTION:Schedule
URL:https://waiorea.school.nz/calendar/y12-and-13-workshops-and-tutorials-2/
END:VEVENT
BEGIN:VEVENT
DTSTART;TZID=Pacific/Auckland:20251029T153000
DTEND;TZID=Pacific/Auckland:20251029T170000
DTSTAMP:20260421T181249
CREATED:20250318T231357Z
LAST-MODIFIED:20251028T071235Z
UID:21467-1761751800-1761757200@waiorea.school.nz
SUMMARY:Waiōrea Homework Centre
DESCRIPTION:
URL:https://waiorea.school.nz/calendar/waiorea-homework-centre-205/
END:VEVENT
BEGIN:VEVENT
DTSTART;VALUE=DATE:20251030
DTEND;VALUE=DATE:20251031
DTSTAMP:20260421T181249
CREATED:20250318T231439Z
LAST-MODIFIED:20251030T102730Z
UID:21569-1761782400-1761868799@waiorea.school.nz
SUMMARY:Y13 Leavers event 3.00pm
DESCRIPTION:
URL:https://waiorea.school.nz/calendar/y13-leavers-event-3-30pm/
END:VEVENT
BEGIN:VEVENT
DTSTART;VALUE=DATE:20251030
DTEND;VALUE=DATE:20251031
DTSTAMP:20260421T181249
CREATED:20250318T231440Z
LAST-MODIFIED:20251030T102730Z
UID:21573-1761782400-1761868799@waiorea.school.nz
SUMMARY:Y12 and 13 workshops and tutorials - schedule linked
DESCRIPTION:Schedule
URL:https://waiorea.school.nz/calendar/y12-and-13-workshops-and-tutorials-3/
END:VEVENT
BEGIN:VEVENT
DTSTART;VALUE=DATE:20251030
DTEND;VALUE=DATE:20251031
DTSTAMP:20260421T181249
CREATED:20250318T231440Z
LAST-MODIFIED:20251030T102730Z
UID:21574-1761782400-1761868799@waiorea.school.nz
SUMMARY:Y13 and 12 prize giving 4.45 in the gym
DESCRIPTION:
URL:https://waiorea.school.nz/calendar/y13-and-12-prize-giving-6-30pm-in-the-gym/
END:VEVENT
BEGIN:VEVENT
DTSTART;VALUE=DATE:20251030
DTEND;VALUE=DATE:20251031
DTSTAMP:20260421T181249
CREATED:20250818T074229Z
LAST-MODIFIED:20251030T102730Z
UID:23667-1761782400-1761868799@waiorea.school.nz
SUMMARY:Senior Media\, Art\, Technology students' work exhibition 3.30 to 4.30pm in KHCL
DESCRIPTION:
URL:https://waiorea.school.nz/calendar/senior-media-art-technology-students-work-exhibition-3-30-to-6pm-in-khcl/
END:VEVENT
BEGIN:VEVENT
DTSTART;VALUE=DATE:20251031
DTEND;VALUE=DATE:20251101
DTSTAMP:20260421T181249
CREATED:20250318T231440Z
LAST-MODIFIED:20251031T102728Z
UID:21572-1761868800-1761955199@waiorea.school.nz
SUMMARY:Last day for Waiōrea Year 11 tauira
DESCRIPTION:
URL:https://waiorea.school.nz/calendar/last-day-for-waiorea-year-11-tauira/
END:VEVENT
BEGIN:VEVENT
DTSTART;VALUE=DATE:20251031
DTEND;VALUE=DATE:20251101
DTSTAMP:20260421T181249
CREATED:20250318T231440Z
LAST-MODIFIED:20251031T102728Z
UID:21575-1761868800-1761955199@waiorea.school.nz
SUMMARY:Y12 and 13 workshops and tutorials - schedule linked
DESCRIPTION:Schedule
URL:https://waiorea.school.nz/calendar/y12-and-13-workshops-and-tutorials-4/
END:VEVENT
BEGIN:VEVENT
DTSTART;VALUE=DATE:20251101
DTEND;VALUE=DATE:20251102
DTSTAMP:20260421T181249
CREATED:20251001T092729Z
LAST-MODIFIED:20251101T102728Z
UID:24222-1761955200-1762041599@waiorea.school.nz
SUMMARY:Waiōrea Hawaii fundraiser quiz night 6 to 11pm in the school gym
DESCRIPTION:
URL:https://waiorea.school.nz/calendar/waiorea-hawaii-fundraiser-quiz-night-6-to-11pm-in-the-school-gym/
END:VEVENT
END:VCALENDAR